Workbook

Sheet PRESUPUESTO T+1 
D1: NECESIDADES PRESUPUESTALES
D2: DIRECCIONAMIENTO Y PLANEACIÓN ESTRATÉGICA
D3: UNIDAD NACIONAL DE PROTECCIÓN
C5: FECHA | D5: 46093
C7: DEPENDENCIA QUE REPORTA LAS NECESIDADES | D7: SUBDIRECCIÓN DE PROTECCIÓN
C9: NOMBRES DE LA PERSONAS QUE DILIGENCIAN EL FORMATO | D9: DIEGO ALEJANDRO MOREN PÉREZ
C11: PRESUPUESTO VIGENCIA FISCAL
A12: IPC | B12: 0 | C12: RUBROS | D12: NECESIDAD REAL INGRESOS NACION | E12: NECESIDAD REAL INGRESOS PROPIOS | F12: TOTAL NECESIDAD REAL | G12: TOPE INGRESOS NACIÓN
C13: GASTOS DE PERSONAL | D13: =+D14+D29+D37 -> 0 | F13: =+D13+E13 -> 0
C14: SALARIO | D14: =+D15+D27 -> 0 | F14: =+D14+E14 -> 0
C15: FACTORES SALARIALES COMUNES | D15: =+D16+D17+D18+D19+D20+D21+D22+D23+D24+D25+D26 -> 0 | F15: =+D15+E15 -> 0
C16: SUELDO BÁSICO | D16: ='GASTOS DE PERSONAL'!B5 -> 0 | F16: =+D16+E16 -> 0
C17: GASTOS DE REPRESENTACIÓN | D17: ='GASTOS DE PERSONAL'!B6 -> 0 | F17: =+D17+E17 -> 0
C18: PRIMA TÉCNICA SALARIAL | D18: ='GASTOS DE PERSONAL'!B7 -> 0 | F18: =+D18+E18 -> 0
C19: SUBSIDIO DE ALIMENTACIÓN | D19: ='GASTOS DE PERSONAL'!B8 -> 0 | F19: =+D19+E19 -> 0
C20: AUXILIO DE TRANSPORTE | D20: ='GASTOS DE PERSONAL'!B9 -> 0 | F20: =+D20+E20 -> 0
C21: PRIMA DE SERVICIO | D21: ='GASTOS DE PERSONAL'!B10 -> 0 | F21: =+D21+E21 -> 0
C22: BONIFICACIÓN POR SERVICIOS PRESTADOS | D22: ='GASTOS DE PERSONAL'!B11 -> 0 | F22: =+D22+E22 -> 0
C23: HORAS EXTRAS, DOMINICALES, FESTIVOS Y RECARGOS | D23: ='GASTOS DE PERSONAL'!B12 -> 0 | F23: =+D23+E23 -> 0
C24: PRIMA DE NAVIDAD | D24: ='GASTOS DE PERSONAL'!B13 -> 0 | F24: =+D24+E24 -> 0
C25: PRIMA DE VACACIONES | D25: ='GASTOS DE PERSONAL'!B14 -> 0 | F25: =+D25+E25 -> 0
C26: VIÁTICOS DE LOS FUNCIONARIOS EN COMISIÓN > 180 DIAS | D26: ='VIÁTICOS,GASTOS DE VIAJE,TIQUET'!H14 -> 0 | F26: =+D26+E26 -> 0
C27: FACTORES SALARIALES ESPECIALES | D27: =+D28 -> 0 | F27: =+D27+E27 -> 0
C28: BONIFICACIÓN POR COMPENSACIÓN | D28: ='GASTOS DE PERSONAL'!B16 -> 0 | F28: =+D28+E28 -> 0
C29: CONTRIBUCIONES INHERENTES A LA NÓMINA | D29: =+D30+D31+D32+D33+D34+D35+D36 -> 0 | F29: =+D29+E29 -> 0
C30: PENSIONES | D30: ='GASTOS DE PERSONAL'!B18 -> 0 | F30: =+D30+E30 -> 0
C31: SALUD | D31: ='GASTOS DE PERSONAL'!B19 -> 0 | F31: =+D31+E31 -> 0
C32: APORTES DE CESANTÍAS | D32: ='GASTOS DE PERSONAL'!B20 -> 0 | F32: =+D32+E32 -> 0
C33: CAJAS DE COMPENSACIÓN FAMILIAR | D33: ='GASTOS DE PERSONAL'!B21 -> 0 | F33: =+D33+E33 -> 0
C34: APORTES GENERALES AL SISTEMA DE RIESGOS LABORALES | D34: ='GASTOS DE PERSONAL'!B22 -> 0 | F34: =+D34+E34 -> 0
C35: APORTES AL ICBF | D35: ='GASTOS DE PERSONAL'!B23 -> 0 | F35: =+D35+E35 -> 0
C36: APORTES AL SENA | D36: ='GASTOS DE PERSONAL'!B24 -> 0 | F36: =+D36+E36 -> 0
C37: REMUNERACIONES NO CONSTITUTIVAS DE FACTOR SALARIAL | D37: =+D38+D42++D43+D44+D45+D50+D46+D47+D48+D51 -> 0 | F37: =+D37+E37 -> 0
C38: PRESTACIONES SOCIALES SEGÚN DEFINICIÓN LEGAL | D38: =SUM(D39:D41) -> 0 | F38: =+D38+E38 -> 0
C39: - Indemnizacion de vacaciones | D39: ='GASTOS DE PERSONAL'!B27 -> 0 | F39: =+D39+E39 -> 0
C40: - Sueldos de vacaciones | D40: ='GASTOS DE PERSONAL'!B28 -> 0 | F40: =+D40+E40 -> 0
C41: - Bonificacion especial de recreacion | D41: ='GASTOS DE PERSONAL'!B29 -> 0 | F41: =+D41+E41 -> 0
C42: PRIMA TECNICA NO SALARIAL | D42: ='GASTOS DE PERSONAL'!B30 -> 0 | F42: =+D42+E42 -> 0
C43: BONIFICACIÓN ESPECIAL POR SERVICIO DE SEGURIDAD A EXPRESIDENTES | D43: ='GASTOS DE PERSONAL'!B31 -> 0 | F43: =+D43+E43 -> 0
C44: BONIFICACIÓN ESPECIAL POR SERVICIO DE COMISIÓN EN PRESIDENCIA | D44: ='GASTOS DE PERSONAL'!B32 -> 0 | F44: =+D44+E44 -> 0
...

Sheet Hoja2
C4: DIRECCIÓN GENERAL
C5: OFICINA ASESORA JURIDICA
C6: OFICINA ASESORA DE PLANEACIÓN E INFORMACIÓN
C7: SECRETARIA GENERAL
C8: SUBDIRECCIÓN DE TALENTO HUMANO
C9: SUBDIRECCIÓN DE EVALUACIÓN DEL RIESGO
C10: SUBDIRECCIÓN DE PROTECCIÓN
C11: SUBDIRECCIÓN ESPECIALIZADA DE SEGURIDAD Y PROTECCIÓN
C12: CONTROL INTERNO Y AUDITORIA

Sheet GASTOS DE PERSONAL
A1: RESUMEN GASTOS DE PERSONAL PROYECTADO
A2: CONCEPTO | B2: VALOR
A3: 01-01-01. SALARIO | B3: =+B4+B15 -> 0
A4: 01-01-01-001. FACTORES SALARIALES COMUNES | B4: =SUM(B5:B14) -> 0
A5: SUELDO BÁSICO
A6: GASTOS DE REPRESENTACIÓN
A7: PRIMA TÉCNICA SALARIAL
A8: SUBSIDIO DE ALIMENTACIÓN
A9: AUXILIO DE TRANSPORTE
A10: PRIMA DE SERVICIO
A11: BONIFICACIÓN POR SERVICIOS PRESTADOS
A12: HORAS EXTRAS, DOMINICALES, FESTIVOS Y RECARGOS
A13: PRIMA DE NAVIDAD
A14: PRIMA DE VACACIONES
A15: 01-01-01-002. FACTORES SALARIALES ESPECIALES | B15: =+B16 -> 0
A16: BONIFICACIÓN POR COMPENSACIÓN
A17: 01-01-02. CONTRIBUCIONES INHERENTES A LA NÓMINA | B17: =SUM(B18:B24) -> 0
A18: PENSIONES
A19: SALUD
A20: APORTES DE CESANTÍAS
A21: CAJAS DE COMPENSACIÓN FAMILIAR
A22: APORTES GENERALES AL SISTEMA DE RIESGOS LABORALES
A23: APORTES AL ICBF
A24: APORTES AL SENA
A25: 01-01-03. REMUNERACIONES NO CONSTITUTIVAS DE FACTOR SALARIAL | B25: =B26+B30+B31+B32+B33+B38+B34+B35+B36+B37+B39 -> 0
A26: PRESTACIONES SOCIALES SEGÚN DEFINICIÓN LEGAL | B26: =SUM(B27:B29) -> 0
A27: - indemnizacion de vacaciones
A28: - sueldos de vacaciones
A29: - bonificacion especial de recreacion
A30: PRIMA TECNICA NO SALARIAL
A31: BONIFICACIÓN ESPECIAL POR SERVICIOS DE SEGURIDAD A EXPRESIDENTES
A32: BONIFICACIÓN ESPECIAL POR SERVICIOS DE COMISIÓN EN PRESIDENCIA
A33: PRIMA DE RIESGO
A34: PRIMA DE CLIMA O PRIMA DE CALOR
A35: PRIMA DE INSTALACIÓN
A36: PRIMA DE COORDINACIÓN
A37: COMPENSACIÓN POR MUERTE
A38: PRIMA DE ORDEN PUBLICO
A39: BONIFICACIÓN DE DIRECCIÓN
A40: TOTAL GASTOS DE PERSONAL | B40: =+B3+B17+B25 -> 0
...

Sheet SERVICIOS PERSONALES INDIRECTOS
A3: CONTRATOS DE PRESTACIÓN DE SERVICIOS
A4: DESCRIPCIÓN | B4: CANTIDAD | C4: VALOR MENSUAL | D4: NÚMERO DE MESES A CONTRATAR | E4: VALOR TOTAL | F4: VALOR ANUAL PROYECTADO | H4: IPC | I4: ='PRESUPUESTO T+1 '!B12 -> 0
A5: 02-02-02-08-01. SERVICIOS DE INVESTIGACIÓN Y DESARROLLO
E6: =C6*D6*B6 -> 0 | F6: =E6*(1+$I$4) -> 0
E7: =C7*D7*B7 -> 0 | F7: =E7*(1+$I$4) -> 0
E8: =C8*D8*B8 -> 0 | F8: =E8*(1+$I$4) -> 0
E9: =C9*D9*B9 -> 0 | F9: =E9*(1+$I$4) -> 0
E10: =C10*D10*B10 -> 0 | F10: =E10*(1+$I$4) -> 0
E11: =C11*D11*B11 -> 0 | F11: =E11*(1+$I$4) -> 0
E12: =C12*D12*B12 -> 0 | F12: =E12*(1+$I$4) -> 0
A13: Subtotal | B13: =SUM(B6:B12) -> 0 | C13: =SUM(C6:C12) -> 0 | E13: =SUM(E6:E12) -> 0 | F13: =SUM(F6:F12) -> 0
A14: 02-02-02-08-02. SERVICIOS JURÍDICOS Y CONTABLES
E15: =C15*D15*B15 -> 0 | F15: =E15*(1+$I$4) -> 0
E16: =C16*D16*B16 -> 0 | F16: =E16*(1+$I$4) -> 0
E17: =C17*D17*B17 -> 0 | F17: =E17*(1+$I$4) -> 0
E18: =C18*D18*B18 -> 0 | F18: =E18*(1+$I$4) -> 0
E19: =C19*D19*B19 -> 0 | F19: =E19*(1+$I$4) -> 0
E20: =C20*D20*B20 -> 0 | F20: =E20*(1+$I$4) -> 0
E21: =C21*D21*B21 -> 0 | F21: =E21*(1+$I$4) -> 0
A22: Subtotal | B22: =SUM(B15:B21) -> 0 | C22: =SUM(C15:C21) -> 0 | E22: =SUM(E15:E21) -> 0 | F22: =SUM(F15:F21) -> 0
A23: 02-02-02-08-03. OTROS SERVICIOS PROFESIONALES, CIENTÍFICOS Y TÉCNICOS
A24: ASISTENCIAL TIPO A1 | B24: 1 | C24: 2751000 | D24: 12 | E24: =B24*C24*D24 -> 33012000 | F24: =E24*(1+$I$4) -> 33012000
A25: ASISTENCIAL TIPO A4 | B25: 2 | C25: 3439000 | D25: 12 | E25: =B25*C25*D25 -> 82536000 | F25: =E25*(1+$I$4) -> 82536000
A26: ASISTENCIAL TIPO A5 | B26: 21 | C26: 4012000 | D26: 12 | E26: =B26*C26*D26 -> 1011024000 | F26: =E26*(1+$I$4) -> 1011024000
A27: PROFESIONAL C5 | B27: 1 | C27: 8254000 | D27: 12 | E27: =B27*C27*D27 -> 99048000 | F27: =E27*(1+$I$4) -> 99048000
A28: PROFESIONAL C6 | B28: 12 | C28: 9400000 | D28: 12 | E28: =B28*C28*D28 -> 1353600000 | F28: =E28*(1+$I$4) -> 1353600000
A29: PROFESIONAL C7 | B29: 2 | C29: 9744000 | D29: 12 | E29: =B29*C29*D29 -> 233856000 | F29: =E29*(1+$I$4) -> 233856000
A30: PROFESIONAL C9 | B30: 2 | C30: 11693000 | D30: 12 | E30: =B30*C30*D30 -> 280632000 | F30: =E30*(1+$I$4) -> 280632000
A31: PROFESIONAL C1 | B31: 88 | C31: 5961000 | D31: 12 | E31: =B31*C31*D31 -> 6294816000 | F31: =E31*(1+$I$4) -> 6294816000
A32: PROFESIONAL C2 | B32: 46 | C32: 6878000 | D32: 12 | E32: =B32*C32*D32 -> 3796656000 | F32: =E32*(1+$I$4) -> 3796656000
A33: PROFESIONAL C3 | B33: 10 | C33: 7795000 | D33: 12 | E33: =B33*C33*D33 -> 935400000 | F33: =E33*(1+$I$4) -> 935400000
A34: PROFESIONAL C4 | B34: 2 | C34: 8713000 | D34: 12 | E34: =B34*C34*D34 -> 209112000 | F34: =E34*(1+$I$4) -> 209112000
A35: TECNICO TIPO B | B35: 7 | C35: 4356000 | D35: 12 | E35: =B35*C35*D35 -> 365904000 | F35: =E35*(1+$I$4) -> 365904000
... A37: TECNICO TIPO B2 | B37: 39 | C37: 4815000 | D37: 12 | E37: =B37*C37*D37 -> 2253420000 | F37: =E37*(1+$I$4) -> 2253420000
E39: =B39*C39*D39 -> 0 | F39: =E39*(1+$I$4) -> 0
E40: =B40*C40*D40 -> 0 | F40: =E40*(1+$I$4) -> 0
E41: =B41*C41*D41 -> 0 | F41: =E41*(1+$I$4) -> 0
A42: Subtotal | B42: =SUM(B24:B41) -> 246 | C42: =SUM(C24:C41) -> 92396000 | E42: =B42*C42*D42 -> 0 | F42: =SUM(F24:F41) -> 17664276000
A43: TOTAL CONTRATOS DE PRESTACIÓN DE SERVICIOS | B43: =B13+B22+B42 -> 246 | C43: =C13+C22+C42 -> 92396000 | E43: =B43*C43*D43 -> 0 | F43: =F13+F22+F42 -> 17664276000
A45: DEP-FT-8/V4 | B45: Oficialización: 23/07/2025 | E45: Página : 1 de 1

Sheet ACTIVOS FIJOS
A3: 02-01-01. ACTIVOS FIJOS
A4: NOMBRE | B4: DESCRIPCIÓN | C4: CANTIDAD (unidades) | D4: VALOR UNITARIO con IVA (pesos) | E4: VALOR MENSUAL | F4: NÚMERO DE MESES A CONTRATAR | G4: GASTO PROYECTADO PERIODO (t+1) | H4: JUSTIFICACIÓN DE LA NECESIDAD | J4: IPC | K4: ='PRESUPUESTO T+1 '!B12 -> 0
A5: 02-01-01-01. EDIFICIOS Y ESTRUCTURAS
E6: =(+D6*C6) -> 0 | G6: =(E6*F6)*(1+$K$4) -> 0
E7: =(+D7*C7) -> 0 | G7: =(E7*F7)*(1+$K$4) -> 0
E8: =(+D8*C8) -> 0 | G8: =(E8*F8)*(1+$K$4) -> 0
A9: Subtotal | E9: =SUM(E6:E8) -> 0 | G9: =SUM(G6:G8) -> 0
A10: 02-01-01-02. SISTEMAS DE ARMAMENTO
E11: =(+D11*C11) -> 0 | G11: =(E11*F11)*(1+$K$4) -> 0
E12: =(+D12*C12) -> 0 | G12: =(E12*F12)*(1+$K$4) -> 0
E13: =(+D13*C13) -> 0 | G13: =(E13*F13)*(1+$K$4) -> 0
A14: Subtotal | E14: =SUM(E11:E13) -> 0 | G14: =SUM(G11:G13) -> 0
A15: 02-01-01-03. ACTIVO FIJO NO CLASIFICADO COMO MAQUINARIA Y EQUIPO
E16: =(+D16*C16) -> 0 | G16: =(E16*F16)*(1+$K$4) -> 0
E17: =(+D17*C17) -> 0 | G17: =(E17*F17)*(1+$K$4) -> 0
E18: =(+D18*C18) -> 0 | G18: =(E18*F18)*(1+$K$4) -> 0
A19: Subtotal | E19: =SUM(E16:E18) -> 0 | G19: =SUM(G16:G18) -> 0
A20: 02-01-01-04. MAQUINARIA Y EQUIPO
A21: Adquisición vehiculos | B21: Adquisición vehiculos tipo camionetas 4X4, para el Grupo de de Apoyo y Reentrenamiento Operativo | C21: 3 | D21: 423900000 | E21: =(+D21*C21) -> 1271700000 | F21: 1 | G21: =(E21*F21)*(1+$K$4) -> 1271700000 | H21: Con la finalidad de dar cumplimiento a las misiones de trabajo derivadas de las solicitudes internas, solicitudes de CERREM y solicitudes de entidades externas para dictar capacitaciones en autoseguridad y autoprotección, ruta de la protección, así como llevar a cabo las jornadas de reentrenamiento, uso correcto del arma, capacitaciones y pruebas en técnicas de conducción protectiva a nivel nacional, es indispensable contar con vehículos de modelos actualizados que serán usados en el transporte terrestre así como para la consecución de pruebas prácticas, de igual forma se recalca que los vehículos asignados actualmente no se encuentran en buen estado, y refieren de modelos de años atrás, por ello se solicita se asigne presupuesto para la compra de tres (3) vehículos tipo campero 4X4
E22: =(+D22*C22) -> 0 | G22: =(E22*F22)*(1+$K$4) -> 0
E23: =(+D23*C23) -> 0 | G23: =(E23*F23)*(1+$K$4) -> 0
A24: Subtotal | E24: =SUM(E21:E23) -> 1271700000 | G24: =SUM(G21:G23) -> 1271700000
A25: 02-01-01-06. OTROS ACTIVOS FIJOS
E26: =(+D26*C26) -> 0 | G26: =(E26*F26)*(1+$K$4) -> 0
E27: =(+D27*C27) -> 0 | G27: =(E27*F27)*(1+$K$4) -> 0
E28: =(+D28*C28) -> 0 | G28: =(E28*F28)*(1+$K$4) -> 0
A29: Subtotal | E29: =SUM(E26:E28) -> 0 | G29: =SUM(G26:G28) -> 0
A30: TOTAL ACTIVOS FIJOS | G30: =G9+G14+G19+G24+G29 -> 1271700000
A32: DEP-FT-08/V4 | D32: Oficialización: 23/07/2025 | G32: Página :1 de 1

Sheet ACTIVOS NO PRODUCIDOS
A3: 02-01-03. ACTIVOS NO PRODUCIDOS
A4: NOMBRE | B4: DESCRIPCIÓN | C4: CANTIDAD (unidades) | D4: VALOR UNITARIO con IVA (pesos) | E4: VALOR MENSUAL | F4: NÚMERO DE MESES A CONTRATAR | G4: GASTO PROYECTADO PERIODO (t+1) | H4: JUSTIFICACIÓN DE LA NECESIDAD | J4: IPC | K4: ='PRESUPUESTO T+1 '!B12 -> 0
A5: 02-01-03-01. TIERRAS Y TERRENOS
G6: =(D6*(1+$K$4)) -> 0
G7: =(D7*F7)*(1+$K$4) -> 0
G8: =(D8*F8)*(1+$K$4) -> 0
A9: Subtotal | G9: =SUM(G6:G8) -> 0
A10: 02-01-03-02. RECURSOS BIOLÓGICOS NO CULTIVADOS
E11: =(+D11*C11) -> 0 | G11: =(E11*F11)*(1+$K$4) -> 0
E12: =(+D12*C12) -> 0 | G12: =(E12*F12)*(1+$K$4) -> 0
E13: =(+D13*C13) -> 0 | G13: =(E13*F13)*(1+$K$4) -> 0
A14: Subtotal | E14: =SUM(E11:E13) -> 0 | G14: =SUM(G11:G13) -> 0
A15: TOTAL ACTIVOS NO PRODUCIDOS | E15: =E14+E9 -> 0 | G15: =G14+G9 -> 0
A17: DEP-FT-08/V4 | D17: Oficialización: 23/07/2025 | G17: Página :5 de 15

Sheet MATERIALES Y SUMINISTROS
A3: 02-02-01. MATERIALES Y SUMINISTROS
A4: NOMBRE | B4: DESCRIPCIÓN | C4: CANTIDAD (unidades) | D4: VALOR UNITARIO con IVA (pesos) | E4: VALOR MENSUAL | F4: NÚMERO DE MESES A CONTRATAR | G4: GASTO PROYECTADO PERIODO (t+1) | H4: JUSTIFICACIÓN DE LA NECESIDAD | J4: IPC | K4: ='PRESUPUESTO T+1 '!B12 -> 0
A5: 02-02-01-00. AGRICULTURA, SILVICULTURA Y PRODUCTOS DE LA PESCA
A6: Combsutible Tarjetas | B6: Suministrar combustible con tarjetas | C6: 1 | D6: 7.292895e+08 | E6: =(+D6*C6) -> 7.292895e+08 | F6: 12 | G6: =(E6*F6)*(1+$K$4) -> 8.7514739e+09 | H6: Se requiere suministrar apoyos para combustible en el marcos de las medidas de protección otorgadas a los beneficiarios.
E7: =(+D7*C7) -> 0 | G7: =(E7*F7)*(1+$K$4) -> 0
E8: =(+D8*C8) -> 0 | G8: =(E8*F8)*(1+$K$4) -> 0
A9: Subtotal | E9: =SUM(E6:E8) -> 7.292895e+08 | G9: =SUM(G6:G8) -> 8.7514739e+09
A10: 02-02-01-01. MINERALES, ELECTRICIDAD, GAS Y AGUA
E11: =(+D11*C11) -> 0 | G11: =(E11*F11)*(1+$K$4) -> 0
E12: =(+D12*C12) -> 0 | G12: =(E12*F12)*(1+$K$4) -> 0
E13: =(+D13*C13) -> 0 | G13: =(E13*F13)*(1+$K$4) -> 0
A14: Subtotal | E14: =SUM(E11:E13) -> 0 | G14: =SUM(G11:G13) -> 0
A15: 02-02-01-02. PRODUCTOS ALIMENTICIOS, BEBIDA Y TABACO; TEXTILES, PRENDAS DE VESTIR Y PRODUCTOS DEL CUERPO
A16: Dotación | B16: Adquisiciòn de uniformes institucionales para los funcionarios adscritos al GARO. | C16: 1 | D16: 650000000 | E16: =(+D16*C16) -> 650000000 | F16: 1 | G16: =(E16*F16)*(1+$K$4) -> 650000000 | H16: Actualmente, es necesario poder dotar a los funcionarios del GARO, Cuerpo Tecnico de Verificacion y Servidores asignados a la Jefetura para la Seguridad Presidencial. de los uniformes institucionales, ya que estas prendas sufren deterioro por estar expuestos a diversas condiciones climaticas y de uso en las actividades de reentrenamientos e instrucciòn, capacitacion, servicios de avanzada y de manera general en el desarrollo de la actividad operativa misional. .
A17: Mantenimiento Correctivo | B17: Mantenimiento Preventivo y correctivo equipos robots antiexplosivos | C17: 1 | D17: 198678830 | E17: =(+D17*C17) -> 198678830 | F17: 1 | G17: =(E17*F17)*(1+$K$4) -> 198678830 | H17: En el marco de las funciones asignadas al Grupo Garo GARO en la Resolución 0831 de 2019, el Grupo GARO cuenta con equipos antiexplosivos Robot Allen Vanguard MK2T, Robot Allen Vanguard MK2, Robot Allen Vanguard Digital MKD a los cuales es necesario realizar mantenimiento preventivo y correctivo.
A18: Camisillas de protección balística (Subdirección de Protección) | B18: Camisillas de protección balística para la implementación y reposición de los actos administrativos que ordenen la entrega de la medida de protección. | C18: =3000-240 -> 2760 | D18: 2600000 | E18: =(+D18*C18) -> 7176000000 | F18: 1 | G18: =(E18*F18)*(1+$K$4) -> 7176000000 | H18: Para realizar esta proyección se tuvo en cuenta el desarrollo de la operación del Grupo de Implementación durante el año 2026. Del mismo modo. La cantidad de chalecos que aproximadamente se requiere el Grupo de Implmentacion para la anualidad corresponde a un estimado de 3.000 chaleco;, la proyección se realiza con un mayor número de estos elementos, debido a que la UNP cosntantemenete aprueba medidas de protección que incluyen este apartado. Para el año 2027, se proyecta la adquisición aproximada de 3.000 chalecos. Para el cálculo del presupuesto, se tomé el valor actual del contrato y se proyectó por la cantidad de chalecos estimado.
A19: Subtotal | E19: =SUM(E16:E18) -> 8024678830 | G19: =SUM(G16:G18) -> 8024678830
A20: 02-02-01-03. OTROS BIENES TRANSPORTABLES(EXCEPTO PRODUCTOS METÁLICOS, MAQUINARIA Y EQUIPO)
E21: =(+D21*C21) -> 0 | G21: =(E21*F21)*(1+$K$4) -> 0
E22: =(+D22*C22) -> 0 | G22: =(E22*F22)*(1+$K$4) -> 0
E23: =(+D23*C23) -> 0 | G23: =(E23*F23)*(1+$K$4) -> 0
A24: Subtotal | E24: =SUM(E21:E23) -> 0 | G24: =SUM(G21:G23) -> 0
A25: 02-02-01-04. PAQUETES METÁLICOS Y PAQUETES DE SOFTWARE
E26: =(+D26*C26) -> 0 | G26: =(E26*F26)*(1+$K$4) -> 0
E27: =(+D27*C27) -> 0 | G27: =(E27*F27)*(1+$K$4) -> 0
E28: =(+D28*C28) -> 0 | G28: =(E28*F28)*(1+$K$4) -> 0
A29: Subtotal | E29: =SUM(E26:E28) -> 0 | G29: =SUM(G26:G28) -> 0
A30: 02-02-01-010. ELEMENTOS MILITARES DE UN SOLO USO
E31: =(+D31*C31) -> 0 | G31: =(E31*F31)*(1+$K$4) -> 0
E32: =(+D32*C32) -> 0 | G32: =(E32*F32)*(1+$K$4) -> 0
E33: =(+D33*C33) -> 0 | G33: =(E33*F33)*(1+$K$4) -> 0
A34: Subtotal | E34: =SUM(E31:E33) -> 0 | G34: =SUM(G31:G33) -> 0
A35: TOTAL MATERIALES Y SUMINISTROS | G35: =G9+G14+G19+G24+G29+G34 -> 1.6776153e+10
A37: DEP-FT-08/V4 | D37: Oficialización: 23/07/2025 | G37: Página 1de 1

Sheet ADQUISICIÓN DE SERVICIOS
A3: 02-02-02. ADQUISICIÓN DE SERVICIOS
A4: NOMBRE | B4: DESCRIPCIÓN | C4: CANTIDAD (unidades) | D4: VALOR UNITARIO con IVA (pesos) | E4: VALOR MENSUAL | F4: NÚMERO DE MESES A CONTRATAR | G4: GASTO PROYECTADO PERIODO (t+1) | H4: JUSTIFICACIÓN DE LA NECESIDAD | J4: IPC | K4: ='PRESUPUESTO T+1 '!B12 -> 0
A5: 02-02-02-05. SERVICIOS DE LA CONSTRUCCIÓN
E6: =(+D6*C6) -> 0 | G6: =(E6*F6)*(1+$K$4) -> 0
E7: =(+D7*C7) -> 0 | G7: =(E7*F7)*(1+$K$4) -> 0
E8: =(+D8*C8) -> 0 | G8: =(E8*F8)*(1+$K$4) -> 0
A9: Subtotal | E9: =SUM(E6:E8) -> 0 | G9: =SUM(G6:G8) -> 0
A10: 02-02-02-06. SERVICIOS DE ALOJAMIENTO; SERVICIOS DE SUMINISTROS DE COMIDA Y BEBIDAS; SERVICIOS DE TRANSPORTE Y SERVICIOS DE ELECTRICIDAD GAS Y ENERGÍA
E11: =(+D11*C11) -> 0 | G11: =(E11*F11)*(1+$K$4) -> 0
E12: =(+D12*C12) -> 0 | G12: =(E12*F12)*(1+$K$4) -> 0
E13: =(+D13*C13) -> 0 | G13: =(E13*F13)*(1+$K$4) -> 0
A14: Subtotal | E14: =SUM(E11:E13) -> 0 | G14: =SUM(G11:G13) -> 0
A15: 02-02-02-07. SERVICIOS FINANCIEROS Y SERVICIOS CONEXOS, SERVICIOS INMOBILIARIOS, Y SERVICIOS DE LEASING
E16: =(+D16*C16) -> 0 | G16: =(E16*F16)*(1+$K$4) -> 0
E17: =(+D17*C17) -> 0 | G17: =(E17*F17)*(1+$K$4) -> 0
E18: =(+D18*C18) -> 0 | G18: =(E18*F18)*(1+$K$4) -> 0
A19: Subtotal | E19: =SUM(E16:E18) -> 0 | G19: =SUM(G16:G18) -> 0
A20: 02-02-02-08. SERVICIOS PRESTADOS A LAS EMPRESAS Y SERVICIOS DE PRODUCCIÓN
A21: Servicio de soporte | B21: Servicio de seguridad y vigilancia | C21: 1 | D21: 8.8278709e+08 | E21: 8.8278709e+08 | F21: 12 | G21: =(E21*F21)*(1+$K$4) -> 1.0593445e+10 | H21: Dar continuidad al servicio de seguridad y vigilancia en las sedes de la UNP a nivel nacional, las cuales requieren custodia permanente sobre los bienes muebles, estructura fisica y documentación que la Entidad maneja en cumplimineto de su misionalidad, servicio que estas empresas de vigilancia prestan con el personal calificado para tales fines, asi como con los elementos tecnologicos necesarios para garantizar el correcto funcionamiento del servicio, elementos con los cuales la UNP no cuenta.
A22: Servicio de Comunicación (Beneficiarios de Medidas de Protección) | B22: Telefonía y datos para | C22: 1 | D22: 3.2405809e+08 | E22: =(+D22*C22) -> 3.2405809e+08 | F22: 12 | G22: =(E22*F22)*(1+$K$4) -> 3.8886971e+09 | H22: Debido a la necesidad del servicio y la relacion de orden público que enfrenta el país en diversos departamentos,municipios y comunidades se ha presentado un desplazamiento masivo de la población civil como consecuencia de las afectaciones en múltiples . Ante este escenario, se prevé que un número significativo de personas podría solicitar medidas de protección ante la entidad. Por lo anterior, se solicita una dicho presupuesto para fortalecer la implementación de dichas medidas, incluyendo la provisión de servicios de comunicación (voz y datos) necesarios para garantizar su adecuada ejecución y el uso correcto de las medidas de proteccion. Actualmente la UNP cuenta con un total de 14023 lineas activas a los diferentes beneficiarios del programa de protección. La proyección para el año 2027 indica que la cantidad de servicios aumentaran en un taza de crecimiento mensul del 2%, de acuerdo con esta proyección se indica que la cantidad de servicio ascenderia a 17.736
E23: =(+D23*C23) -> 0 | G23: =(E23*F23)*(1+$K$4) -> 0
A24: Subtotal | E24: =SUM(E21:E23) -> 1.2068452e+09 | G24: =SUM(G21:G23) -> 1.4482142e+10
A25: 02-02-02-09. SERVICIOS PARA LA COMUNIDAD, SOCIALES Y PERSONALES
E26: =(+D26*C26) -> 0 | G26: =(E26*F26)*(1+$K$4) -> 0
E27: =(+D27*C27) -> 0 | G27: =(E27*F27)*(1+$K$4) -> 0
E28: =(+D28*C28) -> 0 | G28: =(E28*F28)*(1+$K$4) -> 0
A29: Subtotal | E29: =SUM(E26:E28) -> 0 | G29: =SUM(G26:G28) -> 0
A30: TOTAL ADQUISICIÓN DE SERVICIOS | G30: =G9+G14+G19+G24+G29 -> 1.4482142e+10
A32: DEP-FT-08/V4 | D32: Oficialización: 23/07/2025 | G32: Página 1 de 1

Sheet HOMBRES DE PROTECCIÓN Y VEHICUL
A3: 02-02-02. ADQUISICIÓN DE SERVICIOS
A4: NOMBRE | B4: DESCRIPCIÓN | C4: CANTIDAD (unidades) | D4: VALOR UNITARIO con IVA (pesos) | E4: VALOR MENSUAL | F4: NÚMERO DE MESES A CONTRATAR | G4: GASTO PROYECTADO PERIODO (t+1) | H4: JUSTIFICACIÓN DE LA NECESIDAD | J4: IPC | K4: ='PRESUPUESTO T+1 '!B12 -> 0
A5: 02-02-02-07. VEHÍCULOS
A6: Alquiler de Vehículos Convencionales y blindados | B6: Solicitar el arrendamiento de vehículos convencionales y blindados en el marco de las medidas de protección asignadas | C6: 1 | D6: 994425935766 | E6: =(+D6*C6) -> 994425935766 | F6: 1 | G6: =(E6*F6)*(1+$K$4) -> 994425935766 | H6: Este recurso tiene como objetivo cubrir las necesidades de vigencias fiscales para el arrendamiento del servicio de los vehículos blindados, necesarios para la protección de los esquemas actuales y próximos a solventar en el programa de prevención y protección a nivel operativo y misional de la Unidad Nacional de Protección - UNP de acuerdo a la proyección de cantidades y valor unitario para la vigencia 2026.
E7: =(+D7*C7) -> 0 | G7: =(E7*F7)*(1+$K$4) -> 0
E8: =(+D8*C8) -> 0 | G8: =(E8*F8)*(1+$K$4) -> 0
A9: Subtotal | E9: =SUM(E6:E8) -> 994425935766 | G9: =SUM(G6:G8) -> 994425935766
A10: 02-02-02-08. HOMBRES DE PROTECCIÓN
E11: =(+D11*C11) -> 0 | G11: =(E11*F11)*(1+$K$4) -> 0
E12: =(+D12*C12) -> 0 | G12: =(E12*F12)*(1+$K$4) -> 0
E13: =(+D13*C13) -> 0 | G13: =(E13*F13)*(1+$K$4) -> 0
A14: Subtotal | E14: =SUM(E11:E13) -> 0 | G14: =SUM(G11:G13) -> 0
A15: TOTAL VEHÍCULOS Y HOMBRES DE PROTECCIÓN | E15: =+E9+E14 -> 994425935766 | G15: =+G9+G14 -> 994425935766
A17: DEP-FT-08/V4 | D17: Oficialización: 23/07/2025 | G17: Página :1de 1

Sheet VIÁTICOS,GASTOS DE VIAJE,TIQUET
A3: VIÁTICOS, GASTOS DE VIAJE Y TIQUETES
A4: NOMBRE | B4: DESCRIPCIÓN | C4: CANTIDAD (No de personas) | D4: DIAS PROMEDIO/PERSONA | E4: VALOR PROMEDIO DIARIO | F4: VALOR MENSUAL | G4: NÚMERO DE MESES A CONTRATAR | H4: GASTO ANUAL PROYECTADO | I4: JUSTIFICACIÓN DE LA NECESIDAD | K4: IPC | L4: ='PRESUPUESTO T+1 '!B12 -> 0
A5: VIÁTICOS FUNCIONARIOS < A 180 DIAS
F6: =(E6*D6*C6) -> 0 | H6: =(F6*G6)*(1+$L$4) -> 0
F7: =(E7*D7*C7) -> 0 | H7: =(F7*G7)*(1+$L$4) -> 0
F8: =(E8*D8*C8) -> 0 | H8: =(F8*G8)*(1+$L$4) -> 0
A9: Subtotal | F9: =SUM(F6:F8) -> 0 | H9: =SUM(H6:H8) -> 0
A10: VIÁTICOS FUNCIONARIOS > A 180 DIAS
F11: =(E11*D11*C11)*85% -> 0 | H11: =(F11*G11)*(1+$L$4) -> 0
F12: =(E12*D12*C12)*85% -> 0 | H12: =(F12*G12)*(1+$L$4) -> 0
F13: =(E13*D13*C13)*85% -> 0
A14: Subtotal | F14: =SUM(F11:F13) -> 0 | H14: =SUM(H11:H13) -> 0
A15: GASTOS DE VIAJE CONTRATISTAS (Desagregar por alojamiento y transporte)
F16: =(E16*D16*C16) -> 0 | H16: =(F16*G16)*(1+$L$4) -> 0
F17: =(E17*D17*C17) -> 0 | H17: =(F17*G17)*(1+$L$4) -> 0
F18: =(E18*D18*C18) -> 0 | H18: =(F18*G18)*(1+$L$4) -> 0
A19: Subtotal | F19: =SUM(F16:F18) -> 0 | H19: =SUM(H16:H18) -> 0
A20: Subtotal Viáticos y Gastos de viaje | F20: =F9+F14+F19 -> 0 | H20: =H9+H14+H19 -> 0
A21: NOMBRE | B21: DESCRIPCIÓN | C21: CANTIDAD (unidades) | D21: VALOR UNITARIO con IVA (pesos) | E21: VALOR PROMEDIO DIARIO | F21: VALOR MENSUAL | G21: NÚMERO DE MESES A CONTRATAR | H21: GASTO PROYECTADO PERIODO (t+1) | I21: JUSTIFICACIÓN DE LA NECESIDAD
A22: TIQUETES FUNCIONARIOS
F23: =(D23*C23) -> 0 | H23: =(F23*G23)*(1+$L$4) -> 0
F24: =(D24*C24) -> 0 | H24: =(F24*G24)*(1+$L$4) -> 0
F25: =(D25*C25) -> 0 | H25: =(F25*G25)*(1+$L$4) -> 0
A26: Subtotal | F26: =SUM(F23:F25) -> 0 | H26: =SUM(H23:H25) -> 0
A27: TIQUETES CONTRATISTAS
F28: =(D28*C28) -> 0 | H28: =(F28*G28)*(1+$L$4) -> 0
F29: =(D29*C29) -> 0 | H29: =(F29*G29)*(1+$L$4) -> 0
F30: =(D30*C30) -> 0 | H30: =(F30*G30)*(1+$L$4) -> 0
A31: Subtotal | F31: =SUM(F28:F30) -> 0 | H31: =SUM(H28:H30) -> 0
A32: Subtotal Tiquetes | F32: =F26+F31 -> 0 | H32: =H26+H31 -> 0
A33: TOTAL VIÁTICOS, GASTOS DE VIAJE Y TIQUETES | F33: =F20+F32 -> 0 | H33: =H20+H32 -> 0
A35: DEP-FT-08/V4 | D35: Oficialización: 23/07/2025 | H35: Página 1 de 1

Sheet SERVICIOS PÚBLICOS.
A3: SERVICIOS PÚBLICOS
A4: SERVICIO | B4: DESCRIPCIÓN | C4: Vr. Enero | D4: Vr. Febrero | E4: Vr. Marzo | F4: Vr. Abril | G4: Vr. Mayo | H4: Vr. Junio | I4: Vr. Julio | J4: Vr. Agosto | K4: Vr. Septiembre | L4: Vr. Octubre | M4: Vr. Noviembre | N4: Vr. Diciembre | O4: VALOR ANUAL | P4: GASTO PROYECTADO PERIODO (t+1) | Q4: JUSTIFICACIÓN DE LA NECESIDAD | S4: IPC | T4: ='PRESUPUESTO T+1 '!B12 -> 0
A5: Sede:
A6: Acueducto Alcantarillado y Aseo | O6: =SUM(C6:N6) -> 0 | P6: =O6*(1+T4) -> 0
A7: Energía | O7: =SUM(C7:N7) -> 0 | P7: =+(O7*$T$4)+O7 -> 0
A8: Gas Natural | O8: =SUM(C8:N8) -> 0 | P8: =+(O8*$T$4)+O8 -> 0
A9: Telefonía Móvil celular | O9: =SUM(C9:N9) -> 0 | P9: =+(O9*$T$4)+O9 -> 0
A10: Telefono,Fax, y Otros | O10: =SUM(C10:N10) -> 0 | P10: =+(O10*$T$4)+O10 -> 0
A11: Internet | O11: =SUM(C11:N11) -> 0 | P11: =+(O11*$T$4)+O11 -> 0
A12: Subtotal | C12: =SUM(C6:C10) -> 0 | D12: =SUM(D6:D10) -> 0 | E12: =SUM(E6:E10) -> 0 | F12: =SUM(F6:F10) -> 0 | G12: =SUM(G6:G10) -> 0 | H12: =SUM(H6:H10) -> 0 | I12: =SUM(I6:I10) -> 0 | J12: =SUM(J6:J10) -> 0 | ... P12: =SUM(P6:P10) -> 0
A13: Sede:
A14: Acueducto Alcantarillado y Aseo | O14: =SUM(C14:N14) -> 0 | P14: =O14*(1+T12) -> 0
A15: Energía | O15: =SUM(C15:N15) -> 0 | P15: =+(O15*$T$4)+O15 -> 0
A16: Gas Natural | O16: =SUM(C16:N16) -> 0 | P16: =+(O16*$T$4)+O16 -> 0
A17: Telefonía Móvil celular | O17: =SUM(C17:N17) -> 0 | P17: =+(O17*$T$4)+O17 -> 0
A18: Telefono,Fax, y Otros | O18: =SUM(C18:N18) -> 0 | P18: =+(O18*$T$4)+O18 -> 0
A19: Internet | O19: =SUM(C19:N19) -> 0 | P19: =+(O19*$T$4)+O19 -> 0
A20: Subtotal | C20: =SUM(C14:C19) -> 0 | D20: =SUM(D14:D19) -> 0 | E20: =SUM(E14:E19) -> 0 | F20: =SUM(F14:F19) -> 0 | G20: =SUM(G14:G19) -> 0 | H20: =SUM(H14:H19) -> 0 | I20: =SUM(I14:I19) -> 0 | J20: =SUM(J14:J19) -> 0 | ... P20: =SUM(P14:P19) -> 0
A21: Sede:
A22: Acueducto Alcantarillado y Aseo | O22: =SUM(C22:N22) -> 0 | P22: =O22*(1+T20) -> 0
A23: Energía | O23: =SUM(C23:N23) -> 0 | P23: =+(O23*$T$4)+O23 -> 0
A24: Gas Natural | O24: =SUM(C24:N24) -> 0 | P24: =+(O24*$T$4)+O24 -> 0
A25: Telefonía Móvil celular | O25: =SUM(C25:N25) -> 0 | P25: =+(O25*$T$4)+O25 -> 0
A26: Telefono,Fax, y Otros | O26: =SUM(C26:N26) -> 0 | P26: =+(O26*$T$4)+O26 -> 0
A27: Internet | C27: 0 | O27: =SUM(C27:N27) -> 0 | P27: =+(O27*$T$4)+O27 -> 0
A28: Subtotal | C28: =SUM(C22:C27) -> 0 | D28: =SUM(D22:D27) -> 0 | E28: =SUM(E22:E27) -> 0 | F28: =SUM(F22:F27) -> 0 | G28: =SUM(G22:G27) -> 0 | H28: =SUM(H22:H27) -> 0 | I28: =SUM(I22:I27) -> 0 | J28: =SUM(J22:J27) -> 0 | ... P28: =SUM(P22:P27) -> 0
A29: Sede:
A30: Acueducto Alcantarillado y Aseo | O30: =SUM(C30:N30) -> 0 | P30: =O30*(1+T28) -> 0
A31: Energía | O31: =SUM(C31:N31) -> 0 | P31: =+(O31*$T$4)+O31 -> 0
A32: Gas Natural | O32: =SUM(C32:N32) -> 0 | P32: =+(O32*$T$4)+O32 -> 0
A33: Telefonía Móvil celular | O33: =SUM(C33:N33) -> 0 | P33: =+(O33*$T$4)+O33 -> 0
A34: Telefono,Fax, y Otros | O34: =SUM(C34:N34) -> 0 | P34: =+(O34*$T$4)+O34 -> 0
A35: Internet | O35: =SUM(C35:N35) -> 0 | P35: =+(O35*$T$4)+O35 -> 0
A36: Subtotal | C36: =SUM(C30:C35) -> 0 | D36: =SUM(D30:D35) -> 0 | E36: =SUM(E30:E35) -> 0 | F36: =SUM(F30:F35) -> 0 | G36: =SUM(G30:G35) -> 0 | H36: =SUM(H30:H35) -> 0 | I36: =SUM(I30:I35) -> 0 | J36: =SUM(J30:J35) -> 0 | ... P36: =SUM(P30:P35) -> 0
A37: Sede:
A38: Acueducto Alcantarillado y Aseo | O38: =SUM(C38:N38) -> 0 | P38: =O38*(1+T36) -> 0
A39: Energia | O39: =SUM(C39:N39) -> 0 | P39: =+(O39*$T$4)+O39 -> 0
A40: Gas Natural | O40: =SUM(C40:N40) -> 0 | P40: =+(O40*$T$4)+O40 -> 0
A41: Telefonia Movil celular | O41: =SUM(C41:N41) -> 0 | P41: =+(O41*$T$4)+O41 -> 0
A42: Telefono,Fax, y Otros | O42: =SUM(C42:N42) -> 0 | P42: =+(O42*$T$4)+O42 -> 0
...

Sheet APOYOS DE PROTEC Y ENFOQUE DIF 
A3: APOYOS DE PROTECCIÓN Y MEDIDAS CON ENFOQUE DIFERENCIAL
A4: NOMBRE | B4: DESCRIPCIÓN | C4: CANTIDAD (unidades) | D4: VALOR UNITARIO con IVA (pesos) | E4: VALOR MENSUAL | F4: NÚMERO DE MESES A CONTRATAR | G4: GASTO PROYECTADO PERIODO (t+1) | H4: JUSTIFICACIÓN DE LA NECESIDAD | J4: IPC | K4: ='PRESUPUESTO T+1 '!B12 -> 0
A5: APOYOS DE TRANSPORTE
A6: Pago Reembolso de Peajes | B6: Peajes | C6: 86 | D6: 200000 | E6: =(+D6*C6) -> 17200000 | F6: 12 | G6: =(E6*F6)*(1+$K$4) -> 206400000 | H6: Pago por reembolso de gastos por concepto de peajes a beneficiarios del programa que tengan asignadas medidas de vehículo de protección y que se les haya autorizado desplazamiento terrestre
A7: Transporte fluvial Poblacional | B7: Apoyos de protección | C7: 100 | D7: 1961014 | E7: =(+D7*C7) -> 196101400 | F7: 12 | G7: =(E7*F7)*(1+$K$4) -> 2353216800 | H7: Este rubro es utilizado para entregar al protegido recursos económicos para sufragar el precio del contrato de transporte fluvial o marítimo; para brindar condiciones de seguridad en sus desplazamientos y movilidad. con esto dar cumplimiento a los apoyos aprobados por el CERREM, tramites de emergencia y tutelas durante la vigencia 2027 . El valor unitario se calculó utilizando el valor del salario del año 2026 al cual se le realizó indexación con el incremento proyectado del SMMLV para el año 2027, el cual se considera que subrirá en 12%. Nota: Es importente señalar que para la proyección del año 2026 se tuvo en cuenta el Plan Democracia, lo que implicó una planificación anticipada ante el incremento en la solicitud de esta medida de protección.
A8: Transporte fluvial o terrestre UP PCC | B8: Apoyos de protección | C8: 300 | D8: 5883042 | E8: =(+D8*C8) -> 1764912600 | F8: 12 | G8: =(E8*F8)*(1+$K$4) -> 21178951200 | H8: Este rubro es utilizado para entregar al protegido recursos económicos para sufragar el precio del contrato de transporte, para brindar condiciones de seguridad en la movilidad. El valor unitario se calculó utilizando el valor del salario del año 2026 al cual se le realizó indexación con el incremento proyectado del SMMLV para el año 2027, el cual se considera que subrirá en 12%.
A9: Subtotal | E9: =SUM(E6:E8) -> 1978214000 | G9: =SUM(G6:G8) -> 23738568000
A10: APOYO DE REUBICACIÓN
A11: Reubicación Poblacional | B11: Apoyos de protección | C11: 400 | D11: 1961014 | E11: =(+D11*C11) -> 784405600 | F11: 3 | G11: =(E11*F11)*(1+$K$4) -> 2353216800 | H11: Consiste en la asignación y entrega mensual al protegido de una suma de dinero de entre uno (1) a tres (3) salarios mínimos legales mensuales vigentes, según las particularidades del grupo familiar del caso, para facilitar su asentamiento en un lugar diferente a la zona de riesgo. Este pago se aprobará hasta por tres (3) meses y el monto se determina tomando en consideración el número de personas del núcleo familiar con los que se reubica el beneficiario/a. Dar cumplimiento a los apoyos aprobados por el CERREM, tramites de emergencia y tutelas durante la vigencia 2027. El valor unitario se calculó utilizando el valor del salario del año 2026 al cual se le realizó indexación con el incremento proyectado del SMMLV para el año 2027, el cual se considera que subrirá en 12%.
A12: Reubicación UP PCC | B12: Apoyos de protección | C12: 540 | D12: 5883042 | E12: =(+D12*C12) -> 3176842680 | F12: 3 | G12: =(E12*F12)*(1+$K$4) -> 9530528040 | H12: Consiste en la asignación y entrega mensual al protegido de una suma de dinero de tres (3) salarios mínimos legales mensuales vigentes, en un solo desembolso, según las particularidades del grupo familiar del caso, para facilitar su asentamiento en un lugar diferente a la zona de riesgo. Este pago se aprobará hasta por tres (3) meses y el monto se determina tomando en consideración el número de personas del núcleo familiar con los que se reubica el beneficiario/a. Dar cumplimiento a los apoyos aprobados por el CERREM, tramites de emergencia y tutelas durante la vigencia 2027. El valor unitario se calculó utilizando el valor del salario del año 2026 al cual se le realizó indexación con el incremento proyectado del SMMLV para el año 2027, el cual se considera que subrirá en 12%.
E13: =(+D13*C13) -> 0 | G13: =(E13*F13)*(1+$K$4) -> 0
A14: Subtotal | E14: =SUM(E11:E13) -> 3961248280 | G14: =SUM(G11:G13) -> 11883744840
A15: APOYOS DE TRASTEO
A16: Esquema Ligero | B16: Apoyos de protección | C16: 650 | D16: 2941521 | E16: =(+D16*C16) -> 1911988650 | F16: 12 | G16: =(E16*F16)*(1+$K$4) -> 22943863800 | H16: Que, mediante el Decreto 4065 del 31 de octubre de 2011, se creó la Unidad Nacional de Protección – UNP, entidad adscrita al Ministerio del Interior, con carácter de organismo nacional de seguridad cuyo objetivo es el de “articular, coordinar y ejecutar la prestación del servicio de protección a quienes determine el Gobierno Nacional que por virtud de sus actividades, condiciones o situaciones políticas, públicas, sociales, humanitarias, culturales, étnicas, de género, de su calidad de víctima de la violencia, desplazado, activista de derechos humanos, se encuentren en situación de riesgo extraordinario o extremo de sufrir daños contra su vida, integridad, libertad y seguridad personal o en razón al ejercicio de un cargo público u otras actividades que pueden generar riesgo extraordinario, como el liderazgo sindical, de ONGS y de grupos de personas desplazadas, y garantizar la oportunidad, eficiencia e idoneidad de las medidas que se otorgan. Mediante la modificación del decreto 1066 de 26 mayo 2015 Art. 2.4.1.2.11 Medidas de protección. Son medidas de protección "PARÁGRAFO 2. El apoyo de transporte de que trata el esquema Tipo Ligero será exclusivamente para el transporte del protegido, la persona escolta y/o el núcleo familiar del protegido, en este último caso, cuando el acto administrativo que concede la medida así lo disponga. La medida de protección Tipo ligero, no es compatible con otros esquemas de protección previstos en el presente artículo. El apoyo de transporte será hasta por dos (2) SMLMV se reconocerá de forma mensual, por cada mes aprobado." El valor unitario se calculó utilizando el valor del salario del año 2026 al cual se le realizó indexación con el incremento proyectado del SMMLV para el año 2027, el cual se considera que subrirá en 12%.
E17: =(+D17*C17) -> 0 | G17: =(E17*F17)*(1+$K$4) -> 0
E18: =(+D18*C18) -> 0 | G18: =(E18*F18)*(1+$K$4) -> 0
A19: Subtotal | E19: =SUM(E16:E18) -> 1911988650 | G19: =SUM(G16:G18) -> 22943863800
A20: MEDIDAS ENFOQUE DIFERENCIAL
A21: Implementación de Medidas con Enfoque Diferencial | B21: Adquisición de Elementos para ser implementados en territorio ancestral por la UNP como medidas de enfoque diferencial recomendadas por el CERREM Colectivo | C21: 1 | D21: 100000000000 | E21: =(+D21*C21) -> 100000000000 | F21: 1 | G21: =(E21*F21)*(1+$K$4) -> 100000000000 | H21: Para la vigencia 2027 el Grupo de Implementación solicita la asignación presupuestal por valor de $ 100.000.000.000, debido al incremento de las medidas de protección colectivas otorgadas por el cerrem y los colectivos que ingresaron al programa de protección, adicional a lo anterior es pertinente resaltar que los recursos asignados para la vigencia 2026 fueron insuficientes y quedaron actos administrativos pendientes por implementar, esto genero un retraso en el cumplimiento de estos, por lo anterior se remite la proyección pues estos recursos son fundamentales para realizar la adquisición de elementos para ser implementados en territorio ancestral por la UNP como medidas con enfoque diferencial
E22: =(+D22*C22) -> 0 | G22: =(E22*F22)*(1+$K$4) -> 0
E23: =(+D23*C23) -> 0 | G23: =(E23*F23)*(1+$K$4) -> 0
A24: Subtotal | E24: =SUM(E21:E23) -> 100000000000 | G24: =SUM(G21:G23) -> 100000000000
A25: TOTAL APOYOS DE PROTECCIÓN Y ENFOQUE DIFERENCIAL | E25: =E9+E14+E19+E24 -> 107851450930 | G25: =G9+G14+G19+G24 -> 158566176640
A27: DEP-FT-08/V4 | D27: Oficialización: 23/07/2025 | G27: Página :1 de 1

Sheet SENTENCIAS Y CONCILIACIONES
A3: 03-10. SENTENCIAS Y CONCILIACIONES
A4: 03-10-01. FALLOS NACIONALES
A5: NOMBRE | B5: DESCRIPCIÓN | C5: CANTIDAD (unidades) | D5: VALOR UNITARIO (pesos) | E5: VALOR TOTAL | F5: GASTO PROYECTADO PERIODO (t+1) | G5: JUSTIFICACIÓN DE LA NECESIDAD | I5: IPC | J5: ='PRESUPUESTO T+1 '!B12 -> 0
A6: 03-10-01-01. SENTENCIAS
E7: =(+D7*C7) -> 0 | F7: =E7*(1+$J$5) -> 0
E8: =(+D8*C8) -> 0 | F8: =E8*(1+$J$5) -> 0
E9: =(+D9*C9) -> 0 | F9: =E9*(1+$J$5) -> 0
A10: Subtotal | E10: =SUM(E7:E9) -> 0 | F10: =SUM(F7:F9) -> 0
A11: 03-10-01-02. CONCILIACIONES
E12: =(+D12*C12) -> 0 | F12: =E12*(1+$J$5) -> 0
E13: =(+D13*C13) -> 0 | F13: =E13*(1+$J$5) -> 0
E14: =(+D14*C14) -> 0 | F14: =E14*(1+$J$5) -> 0
A15: Subtotal | E15: =SUM(E12:E14) -> 0 | F15: =SUM(F12:F14) -> 0
A16: 03-10-01-03. LAUDOS ARBITRALES
E17: =(+D17*C17) -> 0 | F17: =E17*(1+$J$5) -> 0
E18: =(+D18*C18) -> 0 | F18: =E18*(1+$J$5) -> 0
E19: =(+D19*C19) -> 0 | F19: =E19*(1+$J$5) -> 0
A20: Subtotal | E20: =SUM(E17:E19) -> 0 | F20: =SUM(F17:F19) -> 0
A21: 03-10-02. FALLOS INTERNACIONALES
A22: 03-10-02-01. FALLOS JUDICIALES, DECISIONES CUASI JUDICIALES Y SOLUCIONES AMISTOSAS SISTEMA INTERAMERICANO DE DERECHOS HUMANOS
E23: =(+D23*C23) -> 0 | F23: =E23*(1+$J$5) -> 0
E24: =(+D24*C24) -> 0 | F24: =E24*(1+$J$5) -> 0
E25: =(+D25*C25) -> 0 | F25: =E25*(1+$J$5) -> 0
A26: Subtotal | E26: =SUM(E23:E25) -> 0 | F26: =SUM(F23:F25) -> 0
A27: TOTAL SENTENCIAS Y CONCILIACIONES | E27: =E10+E15+E20+E26 -> 0 | F27: =F10+F15+F20+F26 -> 0
A29: DEP-FT-08/V4 | D29: Oficialización: 23/07/2025 | F29: Página: 1 de 1

Sheet GASTOS DE COMERCIALIZAC Y PROD
A3: 05-01. GASTOS DE COMERCIALIZACIÓN Y PRODUCCIÓN (RECURSOS PROPIOS)
A4: 05-01-02. ADQUISICIÓN DE SERVICIOS
A5: NOMBRE | B5: DESCRIPCIÓN | C5: CANTIDAD (unidades) | D5: VALOR UNITARIO con IVA (pesos) | E5: VALOR MENSUAL | F5: NÚMERO DE MESES A CONTRATAR | G5: GASTO PROYECTADO PERIODO (t+1) | H5: JUSTIFICACIÓN DE LA NECESIDAD | J5: IPC | K5: ='PRESUPUESTO T+1 '!B12 -> 0
A6: 05-01-02-07. VEHÍCULOS
E7: =(+D7*C7) -> 0 | G7: =(E7*F7)*(1+$K$5) -> 0
E8: =(+D8*C8) -> 0 | G8: =(E8*F8)*(1+$K$5) -> 0
E9: =(+D9*C9) -> 0 | G9: =(E9*F9)*(1+$K$5) -> 0
A10: Subtotal | E10: =SUM(E7:E9) -> 0 | G10: =SUM(G7:G9) -> 0
A11: 05-01-02-08. HOMBRES DE PROTECCIÓN
E12: =(+D12*C12) -> 0 | G12: =(E12*F12)*(1+$K$5) -> 0
E13: =(+D13*C13) -> 0 | G13: =(E13*F13)*(1+$K$5) -> 0
E14: =(+D14*C14) -> 0 | G14: =(E14*F14)*(1+$K$5) -> 0
A15: Subtotal | E15: =SUM(E12:E14) -> 0 | G15: =SUM(G12:G14) -> 0
A16: TOTAL GASTOS DE COMERCIALIZACIÓN Y PRODUCCIÓN (RECURSOS PROPIOS) | E16: =+E10+E15 -> 0 | G16: =+G10+G15 -> 0
A18: DEP-FT-08/V4 | D18: Oficialización: 23/07/2025 | G18: Página :1de 1

Sheet GASTOS POR TRIBUTOS, MULTAS, M
A1: 08. IMPUESTOS, MULTAS, SANCIONES E INTERESES DE MORA
A2: NOMBRE | B2: DESCRIPCIÓN | C2: CANTIDAD (unidades) | D2: VALOR UNITARIO con IVA (pesos) | E2: VALOR MENSUAL | F2: NÚMERO DE MESES A CONTRATAR | G2: GASTO PROYECTADO PERIODO (t+1) | H2: JUSTIFICACION DE LA NECESIDAD | J2: IPC | K2: ='PRESUPUESTO T+1 '!B12 -> 0
A3: 08-01. IMPUESTOS
E4: =(+D4*C4) -> 0 | G4: =(E4*F4)*(1+$K$2) -> 0
E5: =(+D5*C5) -> 0 | G5: =(E5*F5)*(1+$K$2) -> 0
E6: =(+D6*C6) -> 0 | G6: =(E6*F6)*(1+$K$2) -> 0
A7: Subtotal | E7: =SUM(E4:E6) -> 0 | G7: =SUM(G4:G6) -> 0
A8: 08-03. TASAS Y DERECHOS ADMINISTRATIVOS
E9: =(+D9*C9) -> 0 | G9: =(E9*F9)*(1+$K$2) -> 0
E10: =(+D10*C10) -> 0 | G10: =(E10*F10)*(1+$K$2) -> 0
E11: =(+D11*C11) -> 0 | G11: =(E11*F11)*(1+$K$2) -> 0
A12: Subtotal | E12: =SUM(E9:E11) -> 0 | G12: =SUM(G9:G11) -> 0
A13: 08-04. CONTRIBUCIONES (Incluye cuota de auditaje)
E14: =(+D14*C14) -> 0 | G14: =(E14*F14)*(1+$K$2) -> 0
E15: =(+D15*C15) -> 0 | G15: =(E15*F15)*(1+$K$2) -> 0
E16: =(+D16*C16) -> 0 | G16: =(E16*F16)*(1+$K$2) -> 0
A17: Subtotal | E17: =SUM(E14:E16) -> 0 | G17: =SUM(G14:G16) -> 0
A18: 08-05. MULTAS, SANCIONES E INTRESES DE MORA
E19: =(+D19*C19) -> 0 | G19: =(E19*F19)*(1+$K$2) -> 0
E20: =(+D20*C20) -> 0 | G20: =(E20*F20)*(1+$K$2) -> 0
E21: =(+D21*C21) -> 0 | G21: =(E21*F21)*(1+$K$2) -> 0
A22: Subtotal | E22: =SUM(E19:E21) -> 0 | G22: =SUM(G19:G21) -> 0
A23: TOTAL IMPUESTOS, MULTAS, SANCIONES E INTERESES DE MORA | G23: =G7+G12+G17 -> 0
A25: DEP-FT-08/V4 | D25: Oficialización: 23/07/2025 | G25: Página :1de 1

Sheet SERVICIO A LA DEUDA PUBLICA
A3: B-10. SERVICIO DE LA DEUDA PÚBLICA INTERNA
A4: NOMBRE | B4: DESCRIPCIÓN | C4: CANTIDAD (unidades) | D4: VALOR UNITARIO con IVA (pesos) | E4: VALOR MENSUAL | F4: NÚMERO DE MESES A CONTRATAR | G4: GASTO PROYECTADO PERIODO (t+1) | H4: JUSTIFICACIÓN DE LA NECESIDAD
A5: 10-01 SERVICIO DE LA DEUDA PÚBLICA INTERNA | J5: IPC | K5: ='PRESUPUESTO T+1 '!B12 -> 0
E6: =(+D6*C6) -> 0 | G6: =(E6*F6)*(1+$K$5) -> 0
E7: =(+D7*C7) -> 0 | G7: =(E7*F7)*(1+$K$5) -> 0
E8: =(+D8*C8) -> 0 | G8: =(E8*F8)*(1+$K$5) -> 0
A9: Subtotal | E9: =SUM(E6:E8) -> 0 | G9: =SUM(G6:G8) -> 0
A10: 10-04 FONDO DE CONTINGENCIAS
E11: =(+D11*C11) -> 0 | G11: =(E11*F11)*(1+$K$5) -> 0
E12: =(+D12*C12) -> 0 | G12: =(E12*F12)*(1+$K$5) -> 0
E13: =(+D13*C13) -> 0 | G13: =(E13*F13)*(1+$K$5) -> 0
A14: Subtotal | E14: =SUM(E11:E13) -> 0 | G14: =SUM(G11:G13) -> 0
A15: TOTAL SERVICIO DE LA DEUDA PÚBLICA INTERNA (RECURSOS NACIÓN) | E15: =+E9+E14 -> 0 | G15: =+G9+G14 -> 0
A17: DEP-FT-08/V4 | D17: Oficialización: 23/07/2025 | G17: Página :1 de 1

Sheet GASTOS DE INVERSIÓN
A1: ,
A3: GASTOS DE INVERSIÓN
A4: NOMBRE DEL PROYECTO | B4: DESCRIPCIÓN DEL PROYECTO | C4: VALOR TOTAL | D4: GASTO PROYECTADO PERIODO (t+1) | E4: JUSTIFICACIÓN DE LA NECESIDAD | G4: IPC | H4: ='PRESUPUESTO T+1 '!B12 -> 0
D6: =+(C6*(1+H4)) -> 0
D7: =+(C7*(1+H7)) -> 0
D8: =+(C8*(1+H8)) -> 0
D9: =+(C9*(1+H9)) -> 0
A10: Subtotal | C10: =SUM(C6:C9) -> 0 | D10: =SUM(D6:D9) -> 0
A11: TOTAL | C11: =+C10 -> 0 | D11: =+D10 -> 0
A13: DEP-FT-08/V4 | B13: Oficialización: 23/07/2025 | D13: Página :1 de1

Sheet INSTRUCTIVO
A1: INSTRUCTIVO PARA EL DILIGENCIAMIENTO DEL FORMATO DE NECESIDADES PRESUPUESTALES
A2: CASILLA | B2: DESCRIPCIÓN
A3: FECHA | B3: Escriba en el orden DD/MM/AA la fecha del diligenciamiento del formato
A4: DEPENDENCIA QUE REPORTA LAS NECESIDADES | B4: Oficinas Y/o Subdirecciones que diligencian el formato para solicitar una necesidad presupuestal.
A5: NOMBRES DE LAS PERSONAS QUE DILIGENCIAN EL FORMATO | B5: Nombre(s) del o los servidores Públicos(s) y/o contratista(s) que realizan el diligenciamiento del formato
A6: PRESUPUESTO VIGENCIA FISCAL
A7: IPC | B7: Será diligenciada por la Oficina Asesora de Planeación de acuerdo a los supuestos macroeconómicos del Ministerio de Hacienda y Crédito Público.
A8: RUBROS | B8: Representa cada uno de los ítems o conceptos en que se divide el presupuesto de la Entidad, caracterizado por corresponder a un concepto específico de ingresos o gastos
A9: NECESIDAD REAL INGRESOS NACIÓN | B9: Constituyen la sumatoria de todos los impuestos tributarios y no tributarios (ingresos corrientes) establecidos en el marco fiscal y tributario del país, así como los recursos de capital que ingresan al Presupuesto General de la Nación (PGN).
A10: NECESIDAD REAL INGRESOS PROPIOS | B10: Son aquellos recursos financieros, materiales, bienes muebles e inmuebles que perciban la Universidad por cualquier título, y que no provengan de las aportaciones que otorguen como subsidio los Gobiernos Estatal y Federal, incluyendo los intereses que generen dichos recursos propios
A11: Total Necesidades Real | B11: Sumatoria de la necesidad real ingresos nación y necesidad real ingresos propios.
A12: Tope Ingresos Nación | B12: Limites presupuestales establecidos por la Dirección Nacional de Presupuesto Público.
A13: GASTOS DE FUNCIONAMIENTO (GASTOS DE PERSONAL ADQUISICIÓN DE BYS+TRANSFERENCIAS CORRIENTES GASTOS DE COMERCIALIZACION+GASTOS POR TRIBUTOS, MULTAS, SANCIONES E INTERÉS DE MORA) | B13: Esta casilla se encuentra formulada y resulta de sumar los rubros presupuestales que están a nivel de cuenta de acuerdo con el catalogo de clasificación presupuestal establecido por el Ministerio de Hacienda y Crédito Público.
A14: SERVICIO A LA DEUDA PÚBLICA | B14: Esta casilla se encuentra formulada y resulta de la sumatoria de servicio a la deuda interna y fondo de contingencias.
A15: TOTAL | B15: Esta casilla se encuentra formulada y resulta de sumar los rubros presupuestales de: gastos de personal, adquisición de bienes y servicios, transferencias corrientes, gastos de comercialización, impuestos, servicio a la deuda y proyectos de inversión.
A16: DESCRIPCIÓN | B16: En este ítem escriba si la necesidad es un bien, servicio u obra. Identifique las características según sea el caso.
A17: CANTIDAD (Unidades) | B17: Identifique la cantidad mensual del bien, obra o servicio requerido.
A18: VALOR UNITARIO | B18: Diligencie el valor unitario con iva del bien, obra o servicio solicitado
... A22: JUSTIFICACIÓN DE LA NECESIDAD | B22: Se debe explicar las razones por las cuales se requiere el bien obra o servicio, detallando lo siguiente: Sustente la cantidad solicitada. Sustente el tiempo requerido.
